BEGIN:VCALENDAR
VERSION:2.0
PRODID:-//West Island Women&#039;s Centre - ECPv6.15.20//NONSGML v1.0//EN
CALSCALE:GREGORIAN
METHOD:PUBLISH
X-ORIGINAL-URL:https://wiwc.ca
X-WR-CALDESC:Events for West Island Women&#039;s Centre
REFRESH-INTERVAL;VALUE=DURATION:PT1H
X-Robots-Tag:noindex
X-PUBLISHED-TTL:PT1H
BEGIN:VTIMEZONE
TZID:America/New_York
BEGIN:DAYLIGHT
TZOFFSETFROM:-0500
TZOFFSETTO:-0400
TZNAME:EDT
DTSTART:20240310T070000
END:DAYLIGHT
BEGIN:STANDARD
TZOFFSETFROM:-0400
TZOFFSETTO:-0500
TZNAME:EST
DTSTART:20241103T060000
END:STANDARD
BEGIN:DAYLIGHT
TZOFFSETFROM:-0500
TZOFFSETTO:-0400
TZNAME:EDT
DTSTART:20250309T070000
END:DAYLIGHT
BEGIN:STANDARD
TZOFFSETFROM:-0400
TZOFFSETTO:-0500
TZNAME:EST
DTSTART:20251102T060000
END:STANDARD
BEGIN:DAYLIGHT
TZOFFSETFROM:-0500
TZOFFSETTO:-0400
TZNAME:EDT
DTSTART:20260308T070000
END:DAYLIGHT
BEGIN:STANDARD
TZOFFSETFROM:-0400
TZOFFSETTO:-0500
TZNAME:EST
DTSTART:20261101T060000
END:STANDARD
BEGIN:DAYLIGHT
TZOFFSETFROM:-0500
TZOFFSETTO:-0400
TZNAME:EDT
DTSTART:20270314T070000
END:DAYLIGHT
BEGIN:STANDARD
TZOFFSETFROM:-0400
TZOFFSETTO:-0500
TZNAME:EST
DTSTART:20271107T060000
END:STANDARD
END:VTIMEZONE
BEGIN:VEVENT
DTSTART;TZID=America/New_York:20250519T091500
DTEND;TZID=America/New_York:20250519T100000
DTSTAMP:20260421T084733
CREATED:20250418T141515Z
LAST-MODIFIED:20260223T165314Z
UID:471-1747646100-1747648800@wiwc.ca
SUMMARY:Busy Bees (6-12 mos with parent)
DESCRIPTION:Description: \nCome join this time to socialize with other moms as we sing together\, have storytime\, use sensory and movement games and enjoy discussions on  your child’s development. \nInstructor: Lisa Jarvis\, Bachelor Early Childhood Education M.S.V.U. (91) \nAvailable spots: Full \nPrice: $42.00 Taxes waived\nRequired age: 6 – 12 months on the day of the activity \nNotes: • There are no classes on April 21st (Easter) and May 19th (Victoria Day). • Only one adult may accompany a child to his/her class. • The class is offered in English but some French Music will be included. \nPrerequisites: Parent or guardian must have a WIWC membership to sign their child up for this course. \nMore information: Free childcare is available. | Le service de garde gratuit est disponible.
URL:https://wiwc.ca/event/busy-bees-6-12-mos-with-parent-4/
LOCATION:WIWC Upstairs classroom\, 11 Rodney (entrée Vincennes entrance)\, Pointe-Claire\, Québec\, H9R 4L8\, Canada
END:VEVENT
BEGIN:VEVENT
DTSTART;TZID=America/New_York:20250526T091500
DTEND;TZID=America/New_York:20250526T100000
DTSTAMP:20260421T084733
CREATED:20250418T141531Z
LAST-MODIFIED:20260223T165229Z
UID:473-1748250900-1748253600@wiwc.ca
SUMMARY:Busy Bees (6-12 mos with parent)
DESCRIPTION:Description: \nCome join this time to socialize with other moms as we sing together\, have storytime\, use sensory and movement games and enjoy discussions on  your child’s development. \nInstructor: Lisa Jarvis\, Bachelor Early Childhood Education M.S.V.U. (91) \nAvailable spots: Full \nPrice: $42.00 Taxes waived\nRequired age: 6 – 12 months on the day of the activity \nNotes: • There are no classes on April 21st (Easter) and May 19th (Victoria Day). • Only one adult may accompany a child to his/her class. • The class is offered in English but some French Music will be included. \nPrerequisites: Parent or guardian must have a WIWC membership to sign their child up for this course. \nMore information: Free childcare is available. | Le service de garde gratuit est disponible.
URL:https://wiwc.ca/event/busy-bees-6-12-mos-with-parent-5/
LOCATION:WIWC Upstairs classroom\, 11 Rodney (entrée Vincennes entrance)\, Pointe-Claire\, Québec\, H9R 4L8\, Canada
END:VEVENT
BEGIN:VEVENT
DTSTART;TZID=America/New_York:20250602T091500
DTEND;TZID=America/New_York:20250602T100000
DTSTAMP:20260421T084733
CREATED:20250418T141543Z
LAST-MODIFIED:20260223T165215Z
UID:475-1748855700-1748858400@wiwc.ca
SUMMARY:Busy Bees (6-12 mos with parent)
DESCRIPTION:Description: \nCome join this time to socialize with other moms as we sing together\, have storytime\, use sensory and movement games and enjoy discussions on  your child’s development. \nInstructor: Lisa Jarvis\, Bachelor Early Childhood Education M.S.V.U. (91) \nAvailable spots: Full \nPrice: $42.00 Taxes waived\nRequired age: 6 – 12 months on the day of the activity \nNotes: • There are no classes on April 21st (Easter) and May 19th (Victoria Day). • Only one adult may accompany a child to his/her class. • The class is offered in English but some French Music will be included. \nPrerequisites: Parent or guardian must have a WIWC membership to sign their child up for this course. \nMore information: Free childcare is available. | Le service de garde gratuit est disponible.
URL:https://wiwc.ca/event/busy-bees-6-12-mos-with-parent-6/
LOCATION:WIWC Upstairs classroom\, 11 Rodney (entrée Vincennes entrance)\, Pointe-Claire\, Québec\, H9R 4L8\, Canada
END:VEVENT
BEGIN:VEVENT
DTSTART;TZID=America/New_York:20260303T090000
DTEND;TZID=America/New_York:20260303T170000
DTSTAMP:20260421T084733
CREATED:20260301T234727Z
LAST-MODIFIED:20260301T234837Z
UID:1327-1772528400-1772557200@wiwc.ca
SUMMARY:Spring Schedule Published
DESCRIPTION:
URL:https://wiwc.ca/event/spring-schedule-published/
END:VEVENT
BEGIN:VEVENT
DTSTART;TZID=America/New_York:20260310T090000
DTEND;TZID=America/New_York:20260310T120000
DTSTAMP:20260421T084733
CREATED:20260301T235108Z
LAST-MODIFIED:20260302T000312Z
UID:1329-1773133200-1773144000@wiwc.ca
SUMMARY:Spring Registration Begins
DESCRIPTION:
URL:https://wiwc.ca/event/spring-registration-begins/
END:VEVENT
BEGIN:VEVENT
DTSTART;TZID=America/New_York:20260313T120000
DTEND;TZID=America/New_York:20260313T150000
DTSTAMP:20260421T084733
CREATED:20260301T235558Z
LAST-MODIFIED:20260301T235558Z
UID:1333-1773403200-1773414000@wiwc.ca
SUMMARY:International Women's Day Event
DESCRIPTION:
URL:https://wiwc.ca/event/international-womens-day-event/
END:VEVENT
BEGIN:VEVENT
DTSTART;TZID=America/New_York:20260321T143000
DTEND;TZID=America/New_York:20260321T170000
DTSTAMP:20260421T084733
CREATED:20260301T235855Z
LAST-MODIFIED:20260301T235855Z
UID:1339-1774103400-1774112400@wiwc.ca
SUMMARY:Open Play
DESCRIPTION:
URL:https://wiwc.ca/event/open-play/
END:VEVENT
BEGIN:VEVENT
DTSTART;VALUE=DATE:20260406
DTEND;VALUE=DATE:20260407
DTSTAMP:20260421T084733
CREATED:20260302T000408Z
LAST-MODIFIED:20260302T000408Z
UID:1345-1775433600-1775519999@wiwc.ca
SUMMARY:Spring Session Begins
DESCRIPTION:
URL:https://wiwc.ca/event/spring-session-begins/
END:VEVENT
END:VCALENDAR